BEGIN:VCALENDAR
VERSION:2.0
PRODID:-//Shantykoor Buitengaats - ECPv6.15.16//NONSGML v1.0//EN
CALSCALE:GREGORIAN
METHOD:PUBLISH
X-ORIGINAL-URL:https://shantykoorbuitengaats.eu
X-WR-CALDESC:Evenementen voor Shantykoor Buitengaats
REFRESH-INTERVAL;VALUE=DURATION:PT1H
X-Robots-Tag:noindex
X-PUBLISHED-TTL:PT1H
BEGIN:VTIMEZONE
TZID:UTC
BEGIN:STANDARD
TZOFFSETFROM:+0000
TZOFFSETTO:+0000
TZNAME:UTC
DTSTART:20240101T000000
END:STANDARD
END:VTIMEZONE
BEGIN:VEVENT
DTSTART;TZID=UTC:20260313T143000
DTEND;TZID=UTC:20260313T163000
DTSTAMP:20260422T223809
CREATED:20260216T123634Z
LAST-MODIFIED:20260216T123634Z
UID:1282-1773412200-1773419400@shantykoorbuitengaats.eu
SUMMARY:De Lichtkring\, De Kring 11\, Zwijndrecht
DESCRIPTION:
URL:https://shantykoorbuitengaats.eu/event/de-lichtkring-de-kring-11-zwijndrecht/
LOCATION:De Lichtkring\, De Kring 11\, Zwijndrecht\, Zuid Holland\, 3332 AS\, Nederland
END:VEVENT
BEGIN:VEVENT
DTSTART;TZID=UTC:20251121T080000
DTEND;TZID=UTC:20251121T170000
DTSTAMP:20260422T223809
CREATED:20251121T145029Z
LAST-MODIFIED:20251121T145029Z
UID:1243-1763712000-1763744400@shantykoorbuitengaats.eu
SUMMARY:Ons repertoire
DESCRIPTION:NEDERLANDS  \nO ANNA JACOBA                     \nDE SCHEEPSHARMONICA  \nDE VERZONKEN STAD \nMEDLEY NR.2  \n‘T KLEINE CAFE AAN DE HAVEN  \nKETELBINKIE                         \nHAALLIJNTJE BOELIJNTJE  \nDE WOONBOOT                       \nWEST ZUIDWEST VAN AMELAND  \nCURAÇAO                                 \nMIJN ROTTERDAM                \nWIERINGEN                              \nBOLLE DRIES \nNEELTJE JACOBA  \nALS DE ZUIDWESTER LOEIT  \nZEEMAN JOUW HART IS OP ZEE \nDE KROEG VAN OÇONNEL \nBIESBOSCHLIED  \nDE KLOK VAN ARNEMUIDEN  \nZUIDERZEE BALLADE \nAANHETNOORDZEESTRAND \nHET ZEEROVERSLIED          \nBEN JE EEN LANDROT          \nKLUTSLIED \nDE GOLF VAN BISKAJE \nLA BELLA LOLA \nLIEF IK MOET VAREN   \nAAN DE MAAS GEBOREN  \nDE VISSERS VAN SAN JUAN \nLANGS DE MAAS \nMOOIE BLAUWE ZEE \nTABÉ IK KIES WEER ZEE     \nAFSCHIJD                                   \nIK ZIE DE LICHTJES VAN DE SCHELDE \nOP DE WOELIGE BAREN      \nHET VISSERSMEISE \nZEEMAN (SEEMAN) \nDE OUDE MAN EN DE ZEE  \nMEISJE IK BEN EEN ZEEMAN \nNOSTALGIE \nDORP AAN DE RIVIER           \nZIJ VOEREN OP HOOP VAN ZEGEN  \nALTIJD KOMEN ER SCHEPEN  \nBEN JE IN ROTTERDAM GEBOREN  \nHOOR JE HET RUISEN DER GOLVEN  \nAAN DE OEVER VAN DE IJSSEL  \nZEEMAN\, O ZEEMAN  \nBLUE PETER    \nALS IK OP ZEE WAS \nJANTJES MEDLEY  \nMOOI VOLENDAM                  \nAAN HET STRAND STIL EN VERLATEN LITTLE SHIP  \nVISSERSMEISJE UIT STELLENDAM  \nDUIZEND MIJLEN HIER VANDAAN \nALOA HÉ \nOP DE SLUIZEN VAN IJMUIDEN  \nJE GLIMLACH \nLA PALOMA \nER IS EEN SCHIP GEZONKEN  \nDE ZUIDERZEE \nDE HAVENS VAN ROTTERDAM \nZWERVEN OP ZEE \nGEEF MIJ MAAR DE ZEE \nLIED VAN DE ZEE \n ENGELS \nGOOD-BYE MY LOVER \nBYE BYE MY ROSEANNE  \nROSABELLA  \nPIRATE SONG                           \nJOHN BROWN DAUGHTER  \nTHE ROSENOF TRALEE \nMAGGIE MAY                                            \nROLL ALABAMA ROLL                          \nMOLLY MALLONE                                   \nALL FOR ME GROG                                 \nTHE WILD ROVER  \nTHE ROSE OF ALLANDALE                  \nSLOOP JOHN B \nFAREWELL SHANTY             \nSAILING HOME                        \nANCHORS AWEIGH \nROLLING HOME \nFIDDLERS GREEN  \nTHE SAILOR BOY  \nTHE MERMAID  \nMINGULAY BOAT SONG       \nTHE LIVING OF LIVERPOOL                \nONE WAY WIND / WESTEN WIND  \nLIVERPOOL LOU  \nTHE FIELDS OF ATHENRY  \nDOWN BY THE DOCKYARD WALL  \nTHE WILD NORTHERN SEA   \nHOME FROM THE SEA  \nTHE ROSE OF MOOINCOIN  \n DUITS \nCAPRI FISCHER \nDREI STRICH NACH STEUERBORD  \nBORA BORA \nSCHWER MIT DEN SCHÄTZEN  \nBLAUE NACHT AM HAFEN  \nSCHÖN IST DIE LIEBE AM HAFEN  \nCAPITANO CAPITANO \nEINE INSEL AUS TRÄUMEN GEBORE \nSIERRA MADRE                       \nAUF EINEM SEEMANNSGRAB \nDIE WINDJAMMER KOMME
URL:https://shantykoorbuitengaats.eu/event/ons-repertoire/
END:VEVENT
END:VCALENDAR