BEGIN:VCALENDAR
VERSION:2.0
PRODID:-//Shantykoor Buitengaats - ECPv6.15.16//NONSGML v1.0//EN
CALSCALE:GREGORIAN
METHOD:PUBLISH
X-ORIGINAL-URL:https://shantykoorbuitengaats.eu
X-WR-CALDESC:Evenementen voor Shantykoor Buitengaats
REFRESH-INTERVAL;VALUE=DURATION:PT1H
X-Robots-Tag:noindex
X-PUBLISHED-TTL:PT1H
BEGIN:VTIMEZONE
TZID:UTC
BEGIN:STANDARD
TZOFFSETFROM:+0000
TZOFFSETTO:+0000
TZNAME:UTC
DTSTART:20250101T000000
END:STANDARD
END:VTIMEZONE
BEGIN:VEVENT
DTSTART;TZID=UTC:20261006T143000
DTEND;TZID=UTC:20261006T163000
DTSTAMP:20260423T114653
CREATED:20260216T132044Z
LAST-MODIFIED:20260216T132044Z
UID:1296-1791297000-1791304200@shantykoorbuitengaats.eu
SUMMARY:De Hoge Weide\, Grote Weel 1\, Strijen
DESCRIPTION:
URL:https://shantykoorbuitengaats.eu/event/de-hoge-weide-grote-weel-1-strijen/
LOCATION:De Hoge Weide\, Grote Weel 1\, Strijen\, Zuid Holland\, 3291 DA\, Nederland
END:VEVENT
BEGIN:VEVENT
DTSTART;TZID=UTC:20261218T130000
DTEND;TZID=UTC:20261218T170000
DTSTAMP:20260423T114653
CREATED:20260216T132546Z
LAST-MODIFIED:20260216T132546Z
UID:1298-1797598800-1797613200@shantykoorbuitengaats.eu
SUMMARY:Stichting Orion\, Rotterdam
DESCRIPTION:
URL:https://shantykoorbuitengaats.eu/event/stichting-orion-rotterdam/
END:VEVENT
END:VCALENDAR