BEGIN:VCALENDAR
VERSION:2.0
PRODID:-//Shantykoor Buitengaats - ECPv6.15.16//NONSGML v1.0//EN
CALSCALE:GREGORIAN
METHOD:PUBLISH
X-WR-CALNAME:Shantykoor Buitengaats
X-ORIGINAL-URL:https://shantykoorbuitengaats.eu
X-WR-CALDESC:Evenementen voor Shantykoor Buitengaats
REFRESH-INTERVAL;VALUE=DURATION:PT1H
X-Robots-Tag:noindex
X-PUBLISHED-TTL:PT1H
BEGIN:VTIMEZONE
TZID:UTC
BEGIN:STANDARD
TZOFFSETFROM:+0000
TZOFFSETTO:+0000
TZNAME:UTC
DTSTART:20250101T000000
END:STANDARD
END:VTIMEZONE
BEGIN:VEVENT
DTSTART;TZID=UTC:20260619T140000
DTEND;TZID=UTC:20260619T160000
DTSTAMP:20260423T024607
CREATED:20260216T124334Z
LAST-MODIFIED:20260216T124334Z
UID:1288-1781877600-1781884800@shantykoorbuitengaats.eu
SUMMARY:Hof van Ammers\, Bernhardstraat 15\, Groot-Ammers
DESCRIPTION:
URL:https://shantykoorbuitengaats.eu/event/hof-van-ammers-bernhardstraat-15-groot-ammers/
LOCATION:Hof van Ammers\, Bernhardstraat 15\, Groot-Ammers\, Netherlands
END:VEVENT
END:VCALENDAR